BEGIN:VCALENDAR
VERSION:2.0
PRODID:-//Mokopane English Combined School - ECPv6.15.20//NONSGML v1.0//EN
CALSCALE:GREGORIAN
METHOD:PUBLISH
X-WR-CALNAME:Mokopane English Combined School
X-ORIGINAL-URL:https://mecschool.co.za
X-WR-CALDESC:Events for Mokopane English Combined School
REFRESH-INTERVAL;VALUE=DURATION:PT1H
X-Robots-Tag:noindex
X-PUBLISHED-TTL:PT1H
BEGIN:VTIMEZONE
TZID:Africa/Johannesburg
BEGIN:STANDARD
TZOFFSETFROM:+0200
TZOFFSETTO:+0200
TZNAME:SAST
DTSTART:20250101T000000
END:STANDARD
END:VTIMEZONE
BEGIN:VEVENT
DTSTART;VALUE=DATE:20260225
DTEND;VALUE=DATE:20260226
DTSTAMP:20260424T103410
CREATED:20260202T113022Z
LAST-MODIFIED:20260202T113022Z
UID:7474-1771977600-1772063999@mecschool.co.za
SUMMARY:LISA Meeting
DESCRIPTION:
URL:https://mecschool.co.za/event/lisa-meeting/
END:VEVENT
END:VCALENDAR