BEGIN:VCALENDAR
VERSION:2.0
PRODID:-//Mokopane English Combined School - ECPv6.15.20//NONSGML v1.0//EN
CALSCALE:GREGORIAN
METHOD:PUBLISH
X-WR-CALNAME:Mokopane English Combined School
X-ORIGINAL-URL:https://mecschool.co.za
X-WR-CALDESC:Events for Mokopane English Combined School
REFRESH-INTERVAL;VALUE=DURATION:PT1H
X-Robots-Tag:noindex
X-PUBLISHED-TTL:PT1H
BEGIN:VTIMEZONE
TZID:Africa/Johannesburg
BEGIN:STANDARD
TZOFFSETFROM:+0200
TZOFFSETTO:+0200
TZNAME:SAST
DTSTART:20240101T000000
END:STANDARD
END:VTIMEZONE
BEGIN:VEVENT
DTSTART;TZID=Africa/Johannesburg:20260207T073000
DTEND;TZID=Africa/Johannesburg:20260207T123000
DTSTAMP:20260422T115321
CREATED:20260202T112823Z
LAST-MODIFIED:20260202T112823Z
UID:7471-1770449400-1770467400@mecschool.co.za
SUMMARY:ECD Inter House
DESCRIPTION:
URL:https://mecschool.co.za/event/ecd-inter-house/
END:VEVENT
BEGIN:VEVENT
DTSTART;TZID=Africa/Johannesburg:20260206T080000
DTEND;TZID=Africa/Johannesburg:20260206T120000
DTSTAMP:20260422T115321
CREATED:20260202T112623Z
LAST-MODIFIED:20260202T112623Z
UID:7468-1770364800-1770379200@mecschool.co.za
SUMMARY:Foundation Phase Athletics
DESCRIPTION:
URL:https://mecschool.co.za/event/foundation-phase-athletics/
END:VEVENT
BEGIN:VEVENT
DTSTART;TZID=Africa/Johannesburg:20260204T080000
DTEND;TZID=Africa/Johannesburg:20260204T123000
DTSTAMP:20260422T115321
CREATED:20260203T102351Z
LAST-MODIFIED:20260203T102351Z
UID:7500-1770192000-1770208200@mecschool.co.za
SUMMARY:Limpopo Athletics Trials
DESCRIPTION:
URL:https://mecschool.co.za/event/limpopo-athletics-trials/
END:VEVENT
BEGIN:VEVENT
DTSTART;VALUE=DATE:20260131
DTEND;VALUE=DATE:20260201
DTSTAMP:20260422T115321
CREATED:20260202T113616Z
LAST-MODIFIED:20260202T113616Z
UID:7484-1769817600-1769903999@mecschool.co.za
SUMMARY:Inter High Athletics
DESCRIPTION:
URL:https://mecschool.co.za/event/inter-high-athletics-2/
END:VEVENT
BEGIN:VEVENT
DTSTART;TZID=Africa/Johannesburg:20260129T173000
DTEND;TZID=Africa/Johannesburg:20260129T190000
DTSTAMP:20260422T115321
CREATED:20260202T113339Z
LAST-MODIFIED:20260202T113339Z
UID:7480-1769707800-1769713200@mecschool.co.za
SUMMARY:Grade 12 Parent Meeting
DESCRIPTION:
URL:https://mecschool.co.za/event/grade-12-parent-meeting-3/
END:VEVENT
BEGIN:VEVENT
DTSTART;TZID=Africa/Johannesburg:20260128T173000
DTEND;TZID=Africa/Johannesburg:20260128T190000
DTSTAMP:20260422T115321
CREATED:20260202T113300Z
LAST-MODIFIED:20260202T113300Z
UID:7478-1769621400-1769626800@mecschool.co.za
SUMMARY:Grade 4-11 (Parent Orientation)
DESCRIPTION:
URL:https://mecschool.co.za/event/grade-4-11-parent-orientation/
END:VEVENT
BEGIN:VEVENT
DTSTART;VALUE=DATE:20260126
DTEND;VALUE=DATE:20260127
DTSTAMP:20260422T115321
CREATED:20260202T113508Z
LAST-MODIFIED:20260202T113508Z
UID:7482-1769385600-1769471999@mecschool.co.za
SUMMARY:Inter House Athletics
DESCRIPTION:
URL:https://mecschool.co.za/event/inter-house-athletics-3/
END:VEVENT
BEGIN:VEVENT
DTSTART;VALUE=DATE:20260112
DTEND;VALUE=DATE:20260113
DTSTAMP:20260422T115321
CREATED:20260202T113142Z
LAST-MODIFIED:20260202T113142Z
UID:7476-1768176000-1768262399@mecschool.co.za
SUMMARY:Staff return
DESCRIPTION:
URL:https://mecschool.co.za/event/staff-return-3/
END:VEVENT
BEGIN:VEVENT
DTSTART;VALUE=DATE:20251203
DTEND;VALUE=DATE:20251204
DTSTAMP:20260422T115321
CREATED:20241113T071413Z
LAST-MODIFIED:20241113T071413Z
UID:6879-1764720000-1764806399@mecschool.co.za
SUMMARY:Break Up Term 4
DESCRIPTION:
URL:https://mecschool.co.za/event/break-up-term-4/
END:VEVENT
BEGIN:VEVENT
DTSTART;VALUE=DATE:20251127
DTEND;VALUE=DATE:20251128
DTSTAMP:20260422T115321
CREATED:20250905T091800Z
LAST-MODIFIED:20250905T091848Z
UID:7348-1764201600-1764287999@mecschool.co.za
SUMMARY:Print Reports
DESCRIPTION:
URL:https://mecschool.co.za/event/schedules-checked/
END:VEVENT
BEGIN:VEVENT
DTSTART;VALUE=DATE:20251124
DTEND;VALUE=DATE:20251126
DTSTAMP:20260422T115321
CREATED:20250905T091710Z
LAST-MODIFIED:20250905T091710Z
UID:7346-1763942400-1764115199@mecschool.co.za
SUMMARY:Check Scripts
DESCRIPTION:
URL:https://mecschool.co.za/event/check-scripts-2/
END:VEVENT
BEGIN:VEVENT
DTSTART;VALUE=DATE:20251121
DTEND;VALUE=DATE:20251122
DTSTAMP:20260422T115321
CREATED:20250905T091343Z
LAST-MODIFIED:20250905T091343Z
UID:7344-1763683200-1763769599@mecschool.co.za
SUMMARY:Exams end Grade 4-11
DESCRIPTION:
URL:https://mecschool.co.za/event/exams-end-grade-4-11/
END:VEVENT
BEGIN:VEVENT
DTSTART;VALUE=DATE:20251120
DTEND;VALUE=DATE:20251121
DTSTAMP:20260422T115321
CREATED:20250917T065841Z
LAST-MODIFIED:20250917T065841Z
UID:7368-1763596800-1763683199@mecschool.co.za
SUMMARY:ECD\, Grade RR & Grade R excursion to Bouncy Croc in Mookgopong
DESCRIPTION:
URL:https://mecschool.co.za/event/ecd-grade-rr-grade-r-excursion-to-bouncy-croc-in-mookgopong/
END:VEVENT
BEGIN:VEVENT
DTSTART;VALUE=DATE:20251110
DTEND;VALUE=DATE:20251111
DTSTAMP:20260422T115321
CREATED:20250905T091253Z
LAST-MODIFIED:20250905T091253Z
UID:7342-1762732800-1762819199@mecschool.co.za
SUMMARY:Grade 4-6 Exams Start
DESCRIPTION:
URL:https://mecschool.co.za/event/grade-4-6-exams-start/
END:VEVENT
BEGIN:VEVENT
DTSTART;TZID=Africa/Johannesburg:20251105T080000
DTEND;TZID=Africa/Johannesburg:20251105T170000
DTSTAMP:20260422T115321
CREATED:20250905T091207Z
LAST-MODIFIED:20250911T114414Z
UID:7340-1762329600-1762362000@mecschool.co.za
SUMMARY:Grade 7  Exam Start
DESCRIPTION:
URL:https://mecschool.co.za/event/grade-7-9-exam-start/
END:VEVENT
BEGIN:VEVENT
DTSTART;VALUE=DATE:20251028
DTEND;VALUE=DATE:20251029
DTSTAMP:20260422T115321
CREATED:20250905T092250Z
LAST-MODIFIED:20250905T092250Z
UID:7351-1761609600-1761695999@mecschool.co.za
SUMMARY:Check Reports Grade 7 Farewell
DESCRIPTION:
URL:https://mecschool.co.za/event/check-reports-grade-7-farewell/
END:VEVENT
BEGIN:VEVENT
DTSTART;VALUE=DATE:20251027
DTEND;VALUE=DATE:20251028
DTSTAMP:20260422T115321
CREATED:20250905T091125Z
LAST-MODIFIED:20250911T114117Z
UID:7338-1761523200-1761609599@mecschool.co.za
SUMMARY:Exam Starts Grade 8 -11
DESCRIPTION:
URL:https://mecschool.co.za/event/exam-starts-grade-10-11/
END:VEVENT
BEGIN:VEVENT
DTSTART;VALUE=DATE:20251024
DTEND;VALUE=DATE:20251025
DTSTAMP:20260422T115321
CREATED:20250905T091005Z
LAST-MODIFIED:20250905T091034Z
UID:7336-1761264000-1761350399@mecschool.co.za
SUMMARY:Grade 3 Snake Walk
DESCRIPTION:
URL:https://mecschool.co.za/event/grade-3-snake-walk-2/
END:VEVENT
BEGIN:VEVENT
DTSTART;VALUE=DATE:20251017
DTEND;VALUE=DATE:20251018
DTSTAMP:20260422T115321
CREATED:20250905T090906Z
LAST-MODIFIED:20250905T090906Z
UID:7334-1760659200-1760745599@mecschool.co.za
SUMMARY:Grade 12 Prize Giving and Lock Ceremony
DESCRIPTION:
URL:https://mecschool.co.za/event/grade-12-prize-giving-and-lock-ceremony/
END:VEVENT
BEGIN:VEVENT
DTSTART;VALUE=DATE:20251014
DTEND;VALUE=DATE:20251015
DTSTAMP:20260422T115321
CREATED:20241113T071336Z
LAST-MODIFIED:20241113T071336Z
UID:6877-1760400000-1760486399@mecschool.co.za
SUMMARY:Students Return Term 4
DESCRIPTION:
URL:https://mecschool.co.za/event/students-return-term-4/
END:VEVENT
BEGIN:VEVENT
DTSTART;VALUE=DATE:20251013
DTEND;VALUE=DATE:20251014
DTSTAMP:20260422T115321
CREATED:20250905T090730Z
LAST-MODIFIED:20250905T090730Z
UID:7332-1760313600-1760399999@mecschool.co.za
SUMMARY:Subject meetings & Health and Safety Meeting
DESCRIPTION:
URL:https://mecschool.co.za/event/subject-meetings-health-and-safety-meeting/
END:VEVENT
BEGIN:VEVENT
DTSTART;VALUE=DATE:20251013
DTEND;VALUE=DATE:20251014
DTSTAMP:20260422T115321
CREATED:20241113T071244Z
LAST-MODIFIED:20241113T071244Z
UID:6875-1760313600-1760399999@mecschool.co.za
SUMMARY:Staff Return Term 4
DESCRIPTION:
URL:https://mecschool.co.za/event/staff-return-term-4/
END:VEVENT
BEGIN:VEVENT
DTSTART;VALUE=DATE:20251006
DTEND;VALUE=DATE:20251011
DTSTAMP:20260422T115321
CREATED:20250905T090621Z
LAST-MODIFIED:20250905T090621Z
UID:7330-1759708800-1760140799@mecschool.co.za
SUMMARY:Archery – Nationals (Limpopo)
DESCRIPTION:
URL:https://mecschool.co.za/event/archery-nationals-limpopo/
END:VEVENT
BEGIN:VEVENT
DTSTART;TZID=Africa/Johannesburg:20250926T070000
DTEND;TZID=Africa/Johannesburg:20250926T080000
DTSTAMP:20260422T115321
CREATED:20250723T080029Z
LAST-MODIFIED:20250723T080029Z
UID:7280-1758870000-1758873600@mecschool.co.za
SUMMARY:7:00-8:00 Collect Reports (Grade 4-12)
DESCRIPTION:
URL:https://mecschool.co.za/event/700-800-collect-reports-grade-4-12/
END:VEVENT
BEGIN:VEVENT
DTSTART;VALUE=DATE:20250926
DTEND;VALUE=DATE:20250927
DTSTAMP:20260422T115321
CREATED:20250723T080717Z
LAST-MODIFIED:20250723T080717Z
UID:7282-1758844800-1758931199@mecschool.co.za
SUMMARY:School Closes  for holidays
DESCRIPTION:
URL:https://mecschool.co.za/event/school-closes-for-holidays/
END:VEVENT
BEGIN:VEVENT
DTSTART;VALUE=DATE:20250926
DTEND;VALUE=DATE:20250927
DTSTAMP:20260422T115321
CREATED:20241113T070615Z
LAST-MODIFIED:20241113T070615Z
UID:6873-1758844800-1758931199@mecschool.co.za
SUMMARY:Break Up Term 3
DESCRIPTION:
URL:https://mecschool.co.za/event/break-up-term-3-2/
END:VEVENT
BEGIN:VEVENT
DTSTART;TZID=Africa/Johannesburg:20250925T073000
DTEND;TZID=Africa/Johannesburg:20250925T233000
DTSTAMP:20260422T115321
CREATED:20250604T091006Z
LAST-MODIFIED:20250604T091006Z
UID:7124-1758785400-1758843000@mecschool.co.za
SUMMARY:Primary School Entrepreneurs Day
DESCRIPTION:
URL:https://mecschool.co.za/event/primary-school-entrepreneurs-day/
END:VEVENT
BEGIN:VEVENT
DTSTART;VALUE=DATE:20250925
DTEND;VALUE=DATE:20250926
DTSTAMP:20260422T115321
CREATED:20250723T075925Z
LAST-MODIFIED:20250723T075925Z
UID:7278-1758758400-1758844799@mecschool.co.za
SUMMARY:Check Reports - All staff available until reports are complete
DESCRIPTION:
URL:https://mecschool.co.za/event/check-reports-all-staff-available-until-reports-are-complete/
END:VEVENT
BEGIN:VEVENT
DTSTART;VALUE=DATE:20250925
DTEND;VALUE=DATE:20250926
DTSTAMP:20260422T115321
CREATED:20250723T075804Z
LAST-MODIFIED:20250723T075804Z
UID:7276-1758758400-1758844799@mecschool.co.za
SUMMARY:Carnival and Entrepreneurs Day (School ends at 12:30)
DESCRIPTION:
URL:https://mecschool.co.za/event/carnival-and-entrepreneurs-day-school-ends-at-1230/
END:VEVENT
BEGIN:VEVENT
DTSTART;VALUE=DATE:20250925
DTEND;VALUE=DATE:20250926
DTSTAMP:20260422T115321
CREATED:20250723T075731Z
LAST-MODIFIED:20250723T075731Z
UID:7274-1758758400-1758844799@mecschool.co.za
SUMMARY:ECD & Foundation phase last day of School
DESCRIPTION:
URL:https://mecschool.co.za/event/ecd-foundation-phase-last-day-of-school/
END:VEVENT
END:VCALENDAR