BEGIN:VCALENDAR
VERSION:2.0
PRODID:-//Mokopane English Combined School - ECPv6.15.20//NONSGML v1.0//EN
CALSCALE:GREGORIAN
METHOD:PUBLISH
X-ORIGINAL-URL:https://mecschool.co.za
X-WR-CALDESC:Events for Mokopane English Combined School
REFRESH-INTERVAL;VALUE=DURATION:PT1H
X-Robots-Tag:noindex
X-PUBLISHED-TTL:PT1H
BEGIN:VTIMEZONE
TZID:Africa/Johannesburg
BEGIN:STANDARD
TZOFFSETFROM:+0200
TZOFFSETTO:+0200
TZNAME:SAST
DTSTART:20250101T000000
END:STANDARD
END:VTIMEZONE
BEGIN:VEVENT
DTSTART;VALUE=DATE:20260622
DTEND;VALUE=DATE:20260623
DTSTAMP:20260423T040724
CREATED:20260415T103126Z
LAST-MODIFIED:20260415T103126Z
UID:7830-1782086400-1782172799@mecschool.co.za
SUMMARY:Print Schedules and Check Schedules
DESCRIPTION:
URL:https://mecschool.co.za/event/print-schedules-and-check-schedules/
END:VEVENT
BEGIN:VEVENT
DTSTART;VALUE=DATE:20260623
DTEND;VALUE=DATE:20260624
DTSTAMP:20260423T040724
CREATED:20260415T103243Z
LAST-MODIFIED:20260415T103243Z
UID:7832-1782172800-1782259199@mecschool.co.za
SUMMARY:Print Reports
DESCRIPTION:
URL:https://mecschool.co.za/event/print-reports/
END:VEVENT
BEGIN:VEVENT
DTSTART;VALUE=DATE:20260624
DTEND;VALUE=DATE:20260625
DTSTAMP:20260423T040724
CREATED:20260415T103348Z
LAST-MODIFIED:20260415T103348Z
UID:7834-1782259200-1782345599@mecschool.co.za
SUMMARY:Check and sign reports
DESCRIPTION:
URL:https://mecschool.co.za/event/check-and-sign-reports/
END:VEVENT
BEGIN:VEVENT
DTSTART;VALUE=DATE:20260625
DTEND;VALUE=DATE:20260626
DTSTAMP:20260423T040724
CREATED:20260415T103538Z
LAST-MODIFIED:20260415T103538Z
UID:7836-1782345600-1782431999@mecschool.co.za
SUMMARY:Gr RR-3 Last day of school and Career Dress up
DESCRIPTION:
URL:https://mecschool.co.za/event/gr-rr-3-last-day-of-school-and-career-dress-up/
END:VEVENT
BEGIN:VEVENT
DTSTART;VALUE=DATE:20260626
DTEND;VALUE=DATE:20260627
DTSTAMP:20260423T040724
CREATED:20260415T113535Z
LAST-MODIFIED:20260415T113535Z
UID:7839-1782432000-1782518399@mecschool.co.za
SUMMARY:School Closes
DESCRIPTION:
URL:https://mecschool.co.za/event/school-closes-3/
END:VEVENT
BEGIN:VEVENT
DTSTART;VALUE=DATE:20260626
DTEND;VALUE=DATE:20260627
DTSTAMP:20260423T040724
CREATED:20260415T113653Z
LAST-MODIFIED:20260415T113653Z
UID:7841-1782432000-1782518399@mecschool.co.za
SUMMARY:Hand Out Rapports  7am-8am
DESCRIPTION:
URL:https://mecschool.co.za/event/hand-out-rapports-7am-8am/
END:VEVENT
BEGIN:VEVENT
DTSTART;VALUE=DATE:20260627
DTEND;VALUE=DATE:20260720
DTSTAMP:20260423T040724
CREATED:20260415T114323Z
LAST-MODIFIED:20260415T114323Z
UID:7843-1782518400-1784505599@mecschool.co.za
SUMMARY:June /July Holidays
DESCRIPTION:
URL:https://mecschool.co.za/event/june-july-holidays/
END:VEVENT
BEGIN:VEVENT
DTSTART;VALUE=DATE:20260720
DTEND;VALUE=DATE:20260721
DTSTAMP:20260423T040724
CREATED:20260415T114439Z
LAST-MODIFIED:20260415T114439Z
UID:7845-1784505600-1784591999@mecschool.co.za
SUMMARY:School opens for staff and learners
DESCRIPTION:
URL:https://mecschool.co.za/event/school-opens-for-staff-and-learners/
END:VEVENT
END:VCALENDAR