BEGIN:VCALENDAR
VERSION:2.0
PRODID:-//Mokopane English Combined School - ECPv6.15.20//NONSGML v1.0//EN
CALSCALE:GREGORIAN
METHOD:PUBLISH
X-WR-CALNAME:Mokopane English Combined School
X-ORIGINAL-URL:https://mecschool.co.za
X-WR-CALDESC:Events for Mokopane English Combined School
REFRESH-INTERVAL;VALUE=DURATION:PT1H
X-Robots-Tag:noindex
X-PUBLISHED-TTL:PT1H
BEGIN:VTIMEZONE
TZID:Africa/Johannesburg
BEGIN:STANDARD
TZOFFSETFROM:+0200
TZOFFSETTO:+0200
TZNAME:SAST
DTSTART:20250101T000000
END:STANDARD
END:VTIMEZONE
BEGIN:VEVENT
DTSTART;TZID=Africa/Johannesburg:20260319T080000
DTEND;TZID=Africa/Johannesburg:20260319T170000
DTSTAMP:20260422T114016
CREATED:20260202T114007Z
LAST-MODIFIED:20260202T114007Z
UID:7492-1773907200-1773939600@mecschool.co.za
SUMMARY:All marks due in
DESCRIPTION:
URL:https://mecschool.co.za/event/all-marks-due-in/
END:VEVENT
BEGIN:VEVENT
DTSTART;VALUE=DATE:20260320
DTEND;VALUE=DATE:20260321
DTSTAMP:20260422T114016
CREATED:20260202T113913Z
LAST-MODIFIED:20260202T113913Z
UID:7490-1773964800-1774051199@mecschool.co.za
SUMMARY:MECS Golf Day
DESCRIPTION:
URL:https://mecschool.co.za/event/mecs-golf-day-2/
END:VEVENT
END:VCALENDAR